1.0000000000
0.0000000000
0.0000000000
-1.0000000000
652340.5000000000
4256214.5000000000
