1.0000000000
0.0000000000
0.0000000000
-1.0000000000
646758.5000000000
4263044.5000000000
