BEGIN_USGS_DOQ_HEADER *
QUADRANGLE_NAME "ELK GROVE" 3.45 or 7.5-min. name*
QUADRANT NE quadrant indicator if cell size = 3.75-minutes*
WEST_LONGITUDE -121 18 45.000 signed deg min sec SDDD MM SS.SSS*
EAST_LONGITUDE -121 15 0.000 signed deg min sec SDDD MM SS.SSS*
NORTH_LATITUDE 38 30 0.000 signed deg min sec SDDD MM SS.SSS*
SOUTH_LATITUDE 38 26 15.000 signed deg min sec SDDD MM SS.SSS*
PRODUCTION_DATE 2001 10 9 yyyy mm dd*
RASTER_ORDER LEFT_RIGHT/TOP_BOTTOM video display order*
BAND_ORGANIZATION "SINGLE FILE" single file or BSQ, or BIL or BIP*
BAND_CONTENT BLACK&WHITE black&white or red green blue*
BITS_PER_PIXEL 8 radiometric resolution*
SAMPLES_AND_LINES 6277 7652 number of columns and rows*
HORIZONTAL_DATUM NAD83 primary horizontal datum*
HORIZONTAL_COORDINATE_SYSTEM UTM *
COORDINATE_ZONE 10 coordinate system zone number*
HORIZONTAL_UNITS METERS coordinate system units*
HORIZONTAL_RESOLUTION 1.00 pixel horiz. ground sample distance*
SECONDARY_HORIZONTAL_DATUM NAD27 secondary horizontal datum*
XY_ORIGIN 646758.000 4263045.000 coord. of upper left pixel pri. datum*
SECONDARY_XY_ORIGIN 646854.090 4262850.102 coord upper left pixel sec datum*
NATION US nation code*
STATE CA state fip code*
NW_QUAD_CORNER_XY 647151.248 4262642.623 XY coords. of pri. NW quad corner*
NE_QUAD_CORNER_XY 652601.673 4262744.436 XY coords. of pri. NE quad corner*
SE_QUAD_CORNER_XY 652733.498 4255808.637 XY coords. of pri. SE quad corner*
SW_QUAD_CORNER_XY 647278.362 4255706.876 XY coords. of pri. SW quad corner*
SECONDARY_NW_QUAD_XY 647154.973 4262435.811 XY coords. - sec. NW quad cor.*
SECONDARY_NE_QUAD_XY 652605.536 4262537.626 XY coords. - sec. NE quad cor.*
SECONDARY_SE_QUAD_XY 652737.359 4255601.971 XY coords. - sec. SE quad cor.*
SECONDARY_SW_QUAD_XY 647282.084 4255500.207 XY coords. - sec. SW quad cor.*
RMSE_XY 2.20 doq horiz. accuracy*
IMAGE_SOURCE "BLACK AND WHITE FILM" b&w, cir, natural color, other*
SOURCE_IMAGE_ID "NAPP 10522 131" source image id*
SOURCE_IMAGE_DATE 1998 8 17 source image date as yyyy mm dd*
SOURCE_DEM_DATE 1966 1 01 source dem date yyyy mm dd*
AGENCY "WESTERN MAPPING CENTER (WMC)" oversight agency*
PRODUCER "WESTERN MAPPING CENTER (WMC)" *
PRODUCTION_SYSTEM "DV2.6.4 1/00 OV2.6 6/00" production system*
STANDARD_VERSION 1996 12 version of DOQ standard*
METADATA_DATE 2001 10 9 date created or changed, yyyy mm dd*
DATA_FILE_SIZE 48037881 data set size in bytes*
BYTE_COUNT 6277 header byte count* * * * * * * * * * * * * * * * * * * * * * * * * * * * * * * * * * * *
END_USGS_HEADER *
