1.0000000000
0.0000000000
0.0000000000
-1.0000000000
641307.5000000000
4262943.5000000000
