1.0000000000
0.0000000000
0.0000000000
-1.0000000000
646885.5000000000
4256109.5000000000
