1.0000000000
0.0000000000
0.0000000000
-1.0000000000
641430.5000000000
4256007.5000000000
