1.0000000000
0.0000000000
0.0000000000
-1.0000000000
630406.5000000000
4262750.5000000000
