1.0000000000
0.0000000000
0.0000000000
-1.0000000000
635974.5000000000
4255909.5000000000
