BEGIN_USGS_DOQ_HEADER *
QUADRANGLE_NAME "FLORIN" 3.45 or 7.5-min. name*
QUADRANT SE quadrant indicator if cell size = 3.75-minutes*
WEST_LONGITUDE -121 26 15.000 signed deg min sec SDDD MM SS.SSS*
EAST_LONGITUDE -121 22 30.000 signed deg min sec SDDD MM SS.SSS*
NORTH_LATITUDE 38 26 15.000 signed deg min sec SDDD MM SS.SSS*
SOUTH_LATITUDE 38 22 30.000 signed deg min sec SDDD MM SS.SSS*
PRODUCTION_DATE 2001 10 12 yyyy mm dd*
RASTER_ORDER LEFT_RIGHT/TOP_BOTTOM video display order*
BAND_ORGANIZATION "SINGLE FILE" single file or BSQ, or BIL or BIP*
BAND_CONTENT BLACK&WHITE black&white or red green blue*
BITS_PER_PIXEL 8 radiometric resolution*
SAMPLES_AND_LINES 6273 7645 number of columns and rows*
HORIZONTAL_DATUM NAD83 primary horizontal datum*
HORIZONTAL_COORDINATE_SYSTEM UTM *
COORDINATE_ZONE 10 coordinate system zone number*
HORIZONTAL_UNITS METERS coordinate system units*
HORIZONTAL_RESOLUTION 1.00 pixel horiz. ground sample distance*
SECONDARY_HORIZONTAL_DATUM NAD27 secondary horizontal datum*
XY_ORIGIN 635974.000 4255910.000 coord. of upper left pixel pri. datum*
SECONDARY_XY_ORIGIN 636070.153 4255714.973 coord upper left pixel sec datum*
NATION US nation code*
STATE CA state fip code*
NW_QUAD_CORNER_XY 636368.208 4255514.464 XY coords. of pri. NW quad corner*
NE_QUAD_CORNER_XY 641823.266 4255608.818 XY coords. of pri. NE quad corner*
SE_QUAD_CORNER_XY 641945.499 4248673.189 XY coords. of pri. SE quad corner*
SW_QUAD_CORNER_XY 636485.737 4248578.883 XY coords. of pri. SW quad corner*
SECONDARY_NW_QUAD_XY 636371.655 4255307.790 XY coords. - sec. NW quad cor.*
SECONDARY_NE_QUAD_XY 641826.850 4255402.147 XY coords. - sec. NE quad cor.*
SECONDARY_SE_QUAD_XY 641949.081 4248466.662 XY coords. - sec. SE quad cor.*
SECONDARY_SW_QUAD_XY 636489.181 4248372.354 XY coords. - sec. SW quad cor.*
RMSE_XY 2.40 doq horiz. accuracy*
IMAGE_SOURCE "BLACK AND WHITE FILM" b&w, cir, natural color, other*
SOURCE_IMAGE_ID "NAPP 10523 138" source image id*
SOURCE_IMAGE_DATE 1998 8 18 source image date as yyyy mm dd*
SOURCE_DEM_DATE 1966 1 01 source dem date yyyy mm dd*
AGENCY "WESTERN MAPPING CENTER (WMC)" oversight agency*
PRODUCER "WESTERN MAPPING CENTER (WMC)" *
PRODUCTION_SYSTEM "DV2.6.4 1/00 OV2.6 6/00" production system*
STANDARD_VERSION 1996 12 version of DOQ standard*
METADATA_DATE 2001 10 12 date created or changed, yyyy mm dd*
DATA_FILE_SIZE 47963358 data set size in bytes*
BYTE_COUNT 6273 header byte count* * * * * * * * * * * * * * * * * * * * * * * * * * * * * * * * * * * *
END_USGS_HEADER *
