1.0000000000
0.0000000000
0.0000000000
-1.0000000000
630519.5000000000
4255814.5000000000
