1.0000000000
0.0000000000
0.0000000000
-1.0000000000
624956.5000000000
4262659.5000000000
