BEGIN_USGS_DOQ_HEADER *
QUADRANGLE_NAME "CLARKSBURG" 3.45 or 7.5-min. name*
QUADRANT NW quadrant indicator if cell size = 3.75-minutes*
WEST_LONGITUDE -121 37 30.000 signed deg min sec SDDD MM SS.SSS*
EAST_LONGITUDE -121 33 45.000 signed deg min sec SDDD MM SS.SSS*
NORTH_LATITUDE 38 30 0.000 signed deg min sec SDDD MM SS.SSS*
SOUTH_LATITUDE 38 26 15.000 signed deg min sec SDDD MM SS.SSS*
PRODUCTION_DATE 2001 10 11 yyyy mm dd*
RASTER_ORDER LEFT_RIGHT/TOP_BOTTOM video display order*
BAND_ORGANIZATION "SINGLE FILE" single file or BSQ, or BIL or BIP*
BAND_CONTENT BLACK&WHITE black&white or red green blue*
BITS_PER_PIXEL 8 radiometric resolution*
SAMPLES_AND_LINES 6254 7633 number of columns and rows*
HORIZONTAL_DATUM NAD83 primary horizontal datum*
HORIZONTAL_COORDINATE_SYSTEM UTM *
COORDINATE_ZONE 10 coordinate system zone number*
HORIZONTAL_UNITS METERS coordinate system units*
HORIZONTAL_RESOLUTION 1.00 pixel horiz. ground sample distance*
SECONDARY_HORIZONTAL_DATUM NAD27 secondary horizontal datum*
XY_ORIGIN 619506.000 4262573.000 coord. of upper left pixel pri. datum*
SECONDARY_XY_ORIGIN 619602.113 4262377.871 coord upper left pixel sec datum*
NATION US nation code*
STATE CA state fip code*
NW_QUAD_CORNER_XY 619899.693 4262189.131 XY coords. of pri. NW quad corner*
NE_QUAD_CORNER_XY 625349.933 4262272.421 XY coords. of pri. NE quad corner*
SE_QUAD_CORNER_XY 625458.204 4255336.862 XY coords. of pri. SE quad corner*
SW_QUAD_CORNER_XY 620003.253 4255253.614 XY coords. of pri. SW quad corner*
SECONDARY_NW_QUAD_XY 619902.728 4261982.307 XY coords. - sec. NW quad cor.*
SECONDARY_NE_QUAD_XY 625353.106 4262065.600 XY coords. - sec. NE quad cor.*
SECONDARY_SE_QUAD_XY 625461.374 4255130.184 XY coords. - sec. SE quad cor.*
SECONDARY_SW_QUAD_XY 620006.286 4255046.934 XY coords. - sec. SW quad cor.*
RMSE_XY 4.90 doq horiz. accuracy*
IMAGE_SOURCE "BLACK AND WHITE FILM" b&w, cir, natural color, other*
SOURCE_IMAGE_ID "NAPP 10542 9" source image id*
SOURCE_IMAGE_DATE 1999 7 28 source image date as yyyy mm dd*
SOURCE_DEM_DATE 1949 0 0 source dem date yyyy mm dd*
AGENCY "WESTERN MAPPING CENTER (WMC)" oversight agency*
PRODUCER "WESTERN MAPPING CENTER (WMC)" *
PRODUCTION_SYSTEM "DV2.6.4 1/00 OV2.6 6/00" production system*
STANDARD_VERSION 1996 12 version of DOQ standard*
METADATA_DATE 2001 10 11 date created or changed, yyyy mm dd*
DATA_FILE_SIZE 47743036 data set size in bytes*
BYTE_COUNT 6254 header byte count* * * * * * * * * * * * * * * * * * * * * * * * * * * * * * * * * * * *
END_USGS_HEADER *
