1.0000000000
0.0000000000
0.0000000000
-1.0000000000
614055.5000000000
4262489.5000000000
