1.0000000000
0.0000000000
0.0000000000
-1.0000000000
608605.5000000000
4262410.5000000000
