BEGIN_USGS_DOQ_HEADER *
QUADRANGLE_NAME "SAXON" 3.45 or 7.5-min. name*
QUADRANT NW quadrant indicator if cell size = 3.75-minutes*
WEST_LONGITUDE -121 45 0.000 signed deg min sec SDDD MM SS.SSS*
EAST_LONGITUDE -121 41 15.000 signed deg min sec SDDD MM SS.SSS*
NORTH_LATITUDE 38 30 0.000 signed deg min sec SDDD MM SS.SSS*
SOUTH_LATITUDE 38 26 15.000 signed deg min sec SDDD MM SS.SSS*
PRODUCTION_DATE 1998 1 29 yyyy mm dd*
RASTER_ORDER LEFT_RIGHT/TOP_BOTTOM video display order*
BAND_ORGANIZATION "SINGLE FILE" single file or BSQ, or BIL or BIP*
BAND_CONTENT BLACK&WHITE black&white or red green blue*
BITS_PER_PIXEL 8 radiometric resolution*
SAMPLES_AND_LINES 6244 7626 number of columns and rows*
HORIZONTAL_DATUM NAD83 primary horizontal datum*
HORIZONTAL_COORDINATE_SYSTEM UTM *
COORDINATE_ZONE 10 coordinate system zone number*
HORIZONTAL_UNITS METERS coordinate system units*
HORIZONTAL_RESOLUTION 1.00 pixel horiz. ground sample distance*
SECONDARY_HORIZONTAL_DATUM NAD27 secondary horizontal datum*
XY_ORIGIN 608605.000 4262411.000 coord. of upper left pixel pri. datum*
SECONDARY_XY_ORIGIN 608701.103 4262215.739 coord upper left pixel sec datum*
NATION US nation code*
STATE CA state fip code*
NW_QUAD_CORNER_XY 608999.308 4262033.661 XY coords. of pri. NW quad corner*
NE_QUAD_CORNER_XY 614449.485 4262109.544 XY coords. of pri. NE quad corner*
SE_QUAD_CORNER_XY 614548.336 4255174.069 XY coords. of pri. SE quad corner*
SW_QUAD_CORNER_XY 609093.450 4255098.224 XY coords. of pri. SW quad corner*
SECONDARY_NW_QUAD_XY 609002.067 4261826.834 XY coords. - sec. NW quad cor.*
SECONDARY_NE_QUAD_XY 614452.382 4261902.719 XY coords. - sec. NE quad cor.*
SECONDARY_SE_QUAD_XY 614551.231 4254967.386 XY coords. - sec. SE quad cor.*
SECONDARY_SW_QUAD_XY 609096.207 4254891.540 XY coords. - sec. SW quad cor.*
RMSE_XY 0.90 doq horiz. accuracy*
IMAGE_SOURCE "BLACK AND WHITE FILM" b&w, cir, natural color, other*
SOURCE_IMAGE_ID "NAPP 6357 034" source image id*
SOURCE_IMAGE_DATE 1993 6 16 source image date as yyyy mm dd*
SOURCE_DEM_DATE 1998 1 29 source dem date yyyy mm dd*
AGENCY "WESTERN MAPPING CENTER (WMC)" oversight agency*
PRODUCER "WESTERN MAPPING CENTER (WMC)" *
PRODUCTION_SYSTEM "DV2.6.3 10/9OV2.4 5/95" production system*
STANDARD_VERSION 1996 12 version of DOQ standard*
METADATA_DATE 1998 2 23 date created or changed, yyyy mm dd*
DATA_FILE_SIZE 47622988 data set size in bytes*
BYTE_COUNT 6244 header byte count* * * * * * * * * * * * * * * * * * * * * * * * * * * * * * * * * * * *
END_USGS_HEADER *
