1.0000000000
0.0000000000
0.0000000000
-1.0000000000
614154.5000000000
4255554.5000000000
