1.0000000000
0.0000000000
0.0000000000
-1.0000000000
608699.5000000000
4255474.5000000000
