1.0000000000
0.0000000000
0.0000000000
-1.0000000000
603154.5000000000
4262333.5000000000
