1.0000000000
0.0000000000
0.0000000000
-1.0000000000
603244.5000000000
4255398.5000000000
