1.0000000000
0.0000000000
0.0000000000
-1.0000000000
592254.5000000000
4262193.5000000000
