1.0000000000
0.0000000000
0.0000000000
-1.0000000000
586803.5000000000
4262128.5000000000
