1.0000000000
0.0000000000
0.0000000000
-1.0000000000
592334.5000000000
4255257.5000000000
