1.0000000000
0.0000000000
0.0000000000
-1.0000000000
586879.5000000000
4255192.5000000000
