1.0000000000
0.0000000000
0.0000000000
-1.0000000000
581775.5000000000
4220456.5000000000
