1.0000000000
0.0000000000
0.0000000000
-1.0000000000
576297.5000000000
4220399.5000000000
