1.0000000000
0.0000000000
0.0000000000
-1.0000000000
581845.5000000000
4213521.5000000000
