1.0000000000
0.0000000000
0.0000000000
-1.0000000000
576362.5000000000
4213464.5000000000
