BEGIN_USGS_DOQ_HEADER *
QUADRANGLE_NAME "VINE HILL" 3.45 or 7.5-min. name*
QUADRANT SW quadrant indicator if cell size = 3.75-minutes*
WEST_LONGITUDE -122 7 30.000 signed deg min sec SDDD MM SS.SSS*
EAST_LONGITUDE -122 3 45.000 signed deg min sec SDDD MM SS.SSS*
NORTH_LATITUDE 38 3 45.000 signed deg min sec SDDD MM SS.SSS*
SOUTH_LATITUDE 38 0 0.000 signed deg min sec SDDD MM SS.SSS*
PRODUCTION_DATE 1997 8 5 yyyy mm dd*
RASTER_ORDER LEFT_RIGHT/TOP_BOTTOM video display order*
BAND_ORGANIZATION "SINGLE FILE" single file or BSQ, or BIL or BIP*
BAND_CONTENT BLACK&WHITE black&white or red green blue*
BITS_PER_PIXEL 8 radiometric resolution*
SAMPLES_AND_LINES 6250 7601 number of columns and rows*
HORIZONTAL_DATUM NAD83 primary horizontal datum*
HORIZONTAL_COORDINATE_SYSTEM UTM *
COORDINATE_ZONE 10 coordinate system zone number*
HORIZONTAL_UNITS METERS coordinate system units*
HORIZONTAL_RESOLUTION 1.00 pixel horiz. ground sample distance*
SECONDARY_HORIZONTAL_DATUM NAD27 secondary horizontal datum*
XY_ORIGIN 576362.000 4213465.000 coord. of upper left pixel pri. datum*
SECONDARY_XY_ORIGIN 576458.315 4213268.943 coord upper left pixel sec datum*
NATION US nation code*
STATE CA state fip code*
NW_QUAD_CORNER_XY 576758.140 4213110.927 XY coords. of pri. NW quad corner*
NE_QUAD_CORNER_XY 582240.979 4213164.398 XY coords. of pri. NE quad corner*
SE_QUAD_CORNER_XY 582310.893 4206229.630 XY coords. of pri. SE quad corner*
SW_QUAD_CORNER_XY 576823.392 4206176.188 XY coords. of pri. SW quad corner*
SECONDARY_NW_QUAD_XY 576760.062 4212905.111 XY coords. - sec. NW quad cor.*
SECONDARY_NE_QUAD_XY 582243.038 4212958.583 XY coords. - sec. NE quad cor.*
SECONDARY_SE_QUAD_XY 582312.950 4206023.964 XY coords. - sec. SE quad cor.*
SECONDARY_SW_QUAD_XY 576825.312 4205970.521 XY coords. - sec. SW quad cor.*
RMSE_XY 1.70 doq horiz. accuracy*
IMAGE_SOURCE "BLACK AND WHITE FILM" b&w, cir, natural color, other*
SOURCE_IMAGE_ID "NAPP 6358 118" source image id*
SOURCE_IMAGE_DATE 1993 6 16 source image date as yyyy mm dd*
SOURCE_DEM_DATE 1997 8 5 source dem date yyyy mm dd*
AGENCY "WESTERN MAPPING CENTER (WMC)" oversight agency*
PRODUCER "Science Applications International" producer/contractor*
PRODUCTION_SYSTEM "GIS/MAGIC" production system*
STANDARD_VERSION 1996 12 version of DOQ standard*
METADATA_DATE 1997 12 28 date created or changed, yyyy mm dd*
DATA_FILE_SIZE 47512500 data set size in bytes*
BYTE_COUNT 6250 header byte count* * * * * * * * * * * * * * * * * * * * * * * * * * * * * * * * * * * *
END_USGS_HEADER *
