1.0000000000
0.0000000000
0.0000000000
-1.0000000000
570819.5000000000
4220345.5000000000
