BEGIN_USGS_DOQ_HEADER *
QUADRANGLE_NAME "BENICIA" 3.45 or 7.5-min. name*
QUADRANT NW quadrant indicator if cell size = 3.75-minutes*
WEST_LONGITUDE -122 15 0.000 signed deg min sec SDDD MM SS.SSS*
EAST_LONGITUDE -122 11 15.000 signed deg min sec SDDD MM SS.SSS*
NORTH_LATITUDE 38 7 30.000 signed deg min sec SDDD MM SS.SSS*
SOUTH_LATITUDE 38 3 45.000 signed deg min sec SDDD MM SS.SSS*
PRODUCTION_DATE 1997 8 28 yyyy mm dd*
RASTER_ORDER LEFT_RIGHT/TOP_BOTTOM video display order*
BAND_ORGANIZATION "SINGLE FILE" single file or BSQ, or BIL or BIP*
BAND_CONTENT BLACK&WHITE black&white or red green blue*
BITS_PER_PIXEL 8 radiometric resolution*
SAMPLES_AND_LINES 6237 7593 number of columns and rows*
HORIZONTAL_DATUM NAD83 primary horizontal datum*
HORIZONTAL_COORDINATE_SYSTEM UTM *
COORDINATE_ZONE 10 coordinate system zone number*
HORIZONTAL_UNITS METERS coordinate system units*
HORIZONTAL_RESOLUTION 1.00 pixel horiz. ground sample distance*
SECONDARY_HORIZONTAL_DATUM NAD27 secondary horizontal datum*
XY_ORIGIN 565340.000 4220296.000 coord. of upper left pixel pri. datum*
SECONDARY_XY_ORIGIN 565436.346 4220099.767 coord upper left pixel sec datum*
NATION US nation code*
STATE CA state fip code*
NW_QUAD_CORNER_XY 565736.520 4219949.810 XY coords. of pri. NW quad corner*
NE_QUAD_CORNER_XY 571214.648 4219995.929 XY coords. of pri. NE quad corner*
SE_QUAD_CORNER_XY 571275.323 4213061.145 XY coords. of pri. SE quad corner*
SW_QUAD_CORNER_XY 565792.527 4213015.051 XY coords. of pri. SW quad corner*
SECONDARY_NW_QUAD_XY 565738.168 4219743.843 XY coords. - sec. NW quad cor.*
SECONDARY_NE_QUAD_XY 571216.433 4219789.963 XY coords. - sec. NE quad cor.*
SECONDARY_SE_QUAD_XY 571277.108 4212855.327 XY coords. - sec. SE quad cor.*
SECONDARY_SW_QUAD_XY 565794.174 4212809.232 XY coords. - sec. SW quad cor.*
RMSE_XY 2.10 doq horiz. accuracy*
IMAGE_SOURCE "BLACK AND WHITE FILM" b&w, cir, natural color, other*
SOURCE_IMAGE_ID "NAPP 6359 071" source image id*
SOURCE_IMAGE_DATE 1993 7 6 source image date as yyyy mm dd*
SOURCE_DEM_DATE 1997 8 28 source dem date yyyy mm dd*
AGENCY "WESTERN MAPPING CENTER (WMC)" oversight agency*
PRODUCER "Science Applications International" producer/contractor*
PRODUCTION_SYSTEM "GIS/MAGIC" production system*
STANDARD_VERSION 1996 12 version of DOQ standard*
METADATA_DATE 1997 12 28 date created or changed, yyyy mm dd*
DATA_FILE_SIZE 47363778 data set size in bytes*
BYTE_COUNT 6237 header byte count* * * * * * * * * * * * * * * * * * * * * * * * * * * * * * * * * * *
END_USGS_HEADER *
