1.0000000000
0.0000000000
0.0000000000
-1.0000000000
559860.5000000000
4220249.5000000000
