1.0000000000
0.0000000000
0.0000000000
-1.0000000000
559910.5000000000
4213319.5000000000
