1.0000000000
0.0000000000
0.0000000000
-1.0000000000
554430.5000000000
4213279.5000000000
