BEGIN_USGS_DOQ_HEADER *
QUADRANGLE_NAME "MARE ISLAND" *
QUADRANT SW *
WEST_LONGITUDE -122 22 30.0 *
EAST_LONGITUDE -122 18 45.0 *
NORTH_LATITUDE 38 3 45.0 *
SOUTH_LATITUDE 38 0 0.0 *
PRODUCTION_DATE 1997 9 15 *
RASTER_ORDER LEFT_RIGHT/TOP_BOTTOM *
BAND_ORGANIZATION "SINGLE FILE" *
BAND_CONTENT BLACK&WHITE *
BITS_PER_PIXEL 8 *
SAMPLES_AND_LINES 6241 7591 *
HORIZONTAL_DATUM NAD83 *
HORIZONTAL_COORDINATE_SYSTEM UTM *
COORDINATE_ZONE 10 *
HORIZONTAL_UNITS METERS *
HORIZONTAL_RESOLUTION 1.0 *
SECONDARY_HORIZONTAL_DATUM NAD27 *
XY_ORIGIN 554430.000 4213280.000 *
SECONDARY_XY_ORIGIN 554526.420 4213083.607 *
NATION US *
STATE CA *
NW_QUAD_CORNER_XY 554826.990 4212933.927 *
NE_QUAD_CORNER_XY 560309.750 4212972.645 *
SE_QUAD_CORNER_XY 560361.017 4206037.982 *
SW_QUAD_CORNER_XY 554873.596 4205999.285 *
SECONDARY_NW_QUAD_XY 554828.362 4212728.106 *
SECONDARY_NE_QUAD_XY 560311.260 4212766.825 *
SECONDARY_SE_QUAD_XY 560362.526 4205832.311 *
SECONDARY_SW_QUAD_XY 554874.968 4205793.613 *
RMSE_XY 1.338 *
IMAGE_SOURCE "Black and White film" *
SOURCE_IMAGE_ID "NAPP 6365-90" *
SOURCE_IMAGE_DATE 1993 8 25 *
SOURCE_DEM_DATE 1983 7 3 *
AGENCY "WESTERN MAPPING CENTER (WMC)" *
PRODUCER "Hammon, Jensen, Wallen & Associates" *
PRODUCTION_SYSTEM "ORTHOVIEW" *
STANDARD_VERSION 1996 12 *
METADATA_DATE 1997 9 15 *
DATA_FILE_SIZE 47381672 *
BYTE_COUNT 6241 * * * * * * * * * * * * * * * * * * * * * * * * * * * * * * * * * * *
END_USGS_HEADER *
