1.0000000000
0.0000000000
0.0000000000
-1.0000000000
548900.5000000000
4220169.5000000000
