BEGIN_USGS_DOQ_HEADER *
QUADRANGLE_NAME "PETALUMA POINT" *
QUADRANT NE *
WEST_LONGITUDE -122 26 15.0 *
EAST_LONGITUDE -122 22 30.0 *
NORTH_LATITUDE 38 7 30.0 *
SOUTH_LATITUDE 38 3 45.0 *
PRODUCTION_DATE 1997 9 15 *
RASTER_ORDER LEFT_RIGHT/TOP_BOTTOM *
BAND_ORGANIZATION "SINGLE FILE" *
BAND_CONTENT BLACK&WHITE *
BITS_PER_PIXEL 8 *
SAMPLES_AND_LINES 6231 7591 *
HORIZONTAL_DATUM NAD83 *
HORIZONTAL_COORDINATE_SYSTEM UTM *
COORDINATE_ZONE 10 *
HORIZONTAL_UNITS METERS *
HORIZONTAL_RESOLUTION 1.0 *
SECONDARY_HORIZONTAL_DATUM NAD27 *
XY_ORIGIN 548900.000 4220170.000 *
SECONDARY_XY_ORIGIN 548996.504 4219973.581 *
NATION US *
STATE CA *
NW_QUAD_CORNER_XY 549302.242 4219833.593 *
NE_QUAD_CORNER_XY 554780.318 4219868.642 *
SE_QUAD_CORNER_XY 554826.990 4212933.927 *
SW_QUAD_CORNER_XY 549344.246 4212898.897 *
SECONDARY_NW_QUAD_XY 549303.478 4219627.623 *
SECONDARY_NE_QUAD_XY 554781.692 4219662.673 *
SECONDARY_SE_QUAD_XY 554828.362 4212728.106 *
SECONDARY_SW_QUAD_XY 549345.481 4212693.075 *
RMSE_XY 0.739 *
IMAGE_SOURCE "Black and White film" *
SOURCE_IMAGE_ID "NAPP 6359-236" *
SOURCE_IMAGE_DATE 1993 7 6 *
SOURCE_DEM_DATE 1983 7 3 *
AGENCY "WESTERN MAPPING CENTER (WMC)" *
PRODUCER "Hammon, Jensen, Wallen & Associates" *
PRODUCTION_SYSTEM "ORTHOVIEW" *
STANDARD_VERSION 1996 12 *
METADATA_DATE 1997 9 15 *
DATA_FILE_SIZE 47305752 *
BYTE_COUNT 6231 * * * * * * * * * * * * * * * * * * * * * * * * * * * * * * * * * * *
END_USGS_HEADER *
