1.0000000000
0.0000000000
0.0000000000
-1.0000000000
543420.5000000000
4220139.5000000000
