1.0000000000
0.0000000000
0.0000000000
-1.0000000000
543460.5000000000
4213199.5000000000
