1.0000000000
0.0000000000
0.0000000000
-1.0000000000
537950.5000000000
4220109.5000000000
