1.0000000000
0.0000000000
0.0000000000
-1.0000000000
532470.5000000000
4220079.5000000000
