BEGIN_USGS_DOQ_HEADER *
QUADRANGLE_NAME "NOVATO" *
QUADRANT NW *
WEST_LONGITUDE -122 37 30.0 *
EAST_LONGITUDE -122 33 45.0 *
NORTH_LATITUDE 38 7 30.0 *
SOUTH_LATITUDE 38 3 45.0 *
PRODUCTION_DATE 1997 11 4 *
RASTER_ORDER LEFT_RIGHT/TOP_BOTTOM *
BAND_ORGANIZATION "SINGLE FILE" *
BAND_CONTENT BLACK&WHITE *
BITS_PER_PIXEL 8 *
SAMPLES_AND_LINES 6211 7581 *
HORIZONTAL_DATUM NAD83 *
HORIZONTAL_COORDINATE_SYSTEM UTM *
COORDINATE_ZONE 10 *
HORIZONTAL_UNITS METERS *
HORIZONTAL_RESOLUTION 1.0 *
SECONDARY_HORIZONTAL_DATUM NAD27 *
XY_ORIGIN 532470.000 4220080.000 *
SECONDARY_XY_ORIGIN 532566.760 4219883.314 *
NATION US *
STATE CA *
NW_QUAD_CORNER_XY 532868.091 4219750.584 *
NE_QUAD_CORNER_XY 538346.130 4219774.564 *
SE_QUAD_CORNER_XY 538378.799 4212839.900 *
SW_QUAD_CORNER_XY 532896.093 4212815.932 *
SECONDARY_NW_QUAD_XY 532868.915 4219544.612 *
SECONDARY_NE_QUAD_XY 538347.091 4219568.593 *
SECONDARY_SE_QUAD_XY 538379.760 4212634.076 *
SECONDARY_SW_QUAD_XY 532896.916 4212610.108 *
RMSE_XY 0.935 *
IMAGE_SOURCE "Black and White film" *
SOURCE_IMAGE_ID "NAPP 6361-95" *
SOURCE_IMAGE_DATE 1993 7 10 *
SOURCE_DEM_DATE 1954 1 1 *
AGENCY "WESTERN MAPPING CENTER (WMC)" *
PRODUCER "Hammon, Jensen, Wallen & Associates" *
PRODUCTION_SYSTEM "ORTHOVIEW" *
STANDARD_VERSION 1996 12 *
METADATA_DATE 1997 11 4 *
DATA_FILE_SIZE 47091802 *
BYTE_COUNT 6211 * * * * * * * * * * * * * * * * * * * * * * * * * * * * * * * * * * *
END_USGS_HEADER *
