1.0000000000
0.0000000000
0.0000000000
-1.0000000000
537980.5000000000
4213169.5000000000
