BEGIN_USGS_DOQ_HEADER *
QUADRANGLE_NAME "NOVATO" *
QUADRANT SE *
WEST_LONGITUDE -122 33 45.0 *
EAST_LONGITUDE -122 30 0.0 *
NORTH_LATITUDE 38 3 45.0 *
SOUTH_LATITUDE 38 0 0.0 *
PRODUCTION_DATE 1997 9 15 *
RASTER_ORDER LEFT_RIGHT/TOP_BOTTOM *
BAND_ORGANIZATION "SINGLE FILE" *
BAND_CONTENT BLACK&WHITE *
BITS_PER_PIXEL 8 *
SAMPLES_AND_LINES 6221 7581 *
HORIZONTAL_DATUM NAD83 *
HORIZONTAL_COORDINATE_SYSTEM UTM *
COORDINATE_ZONE 10 *
HORIZONTAL_UNITS METERS *
HORIZONTAL_RESOLUTION 1.0 *
SECONDARY_HORIZONTAL_DATUM NAD27 *
XY_ORIGIN 537980.000 4213170.000 *
SECONDARY_XY_ORIGIN 538076.627 4212973.377 *
NATION US *
STATE CA *
NW_QUAD_CORNER_XY 538378.799 4212839.900 *
NE_QUAD_CORNER_XY 543861.516 4212867.554 *
SE_QUAD_CORNER_XY 543898.800 4205932.948 *
SW_QUAD_CORNER_XY 538411.422 4205905.308 *
SECONDARY_NW_QUAD_XY 538379.760 4212634.076 *
SECONDARY_NE_QUAD_XY 543862.614 4212661.732 *
SECONDARY_SE_QUAD_XY 543899.897 4205727.275 *
SECONDARY_SW_QUAD_XY 538412.382 4205699.634 *
RMSE_XY 1.261 *
IMAGE_SOURCE "Black and White film" *
SOURCE_IMAGE_ID "NAPP 6361-144" *
SOURCE_IMAGE_DATE 1993 7 10 *
SOURCE_DEM_DATE 1954 0 1 *
AGENCY "WESTERN MAPPING CENTER (WMC)" *
PRODUCER "Hammon, Jensen, Wallen & Associates" *
PRODUCTION_SYSTEM "ORTHOVIEW" *
STANDARD_VERSION 1996 12 *
METADATA_DATE 1997 9 15 *
DATA_FILE_SIZE 47167622 *
BYTE_COUNT 6221 * * * * * * * * * * * * * * * * * * * * * * * * * * * * * * * * * * *
END_USGS_HEADER *
