1.0000000000
0.0000000000
0.0000000000
-1.0000000000
532500.5000000000
4213139.5000000000
