1.0000000000
0.0000000000
0.0000000000
-1.0000000000
581635.5000000000
4234326.5000000000
