1.0000000000
0.0000000000
0.0000000000
-1.0000000000
576166.5000000000
4234269.5000000000
