1.0000000000
0.0000000000
0.0000000000
-1.0000000000
581705.5000000000
4227391.5000000000
