1.0000000000
0.0000000000
0.0000000000
-1.0000000000
576231.5000000000
4227334.5000000000
