BEGIN_USGS_DOQ_HEADER *
QUADRANGLE_NAME "FAIRFIELD SOUTH" 3.45 or 7.5-min. name*
QUADRANT SW quadrant indicator if cell size = 3.75-minutes*
WEST_LONGITUDE -122 7 30.000 signed deg min sec SDDD MM SS.SSS*
EAST_LONGITUDE -122 3 45.000 signed deg min sec SDDD MM SS.SSS*
NORTH_LATITUDE 38 11 15.000 signed deg min sec SDDD MM SS.SSS*
SOUTH_LATITUDE 38 7 30.000 signed deg min sec SDDD MM SS.SSS*
PRODUCTION_DATE 1998 8 5 yyyy mm dd*
RASTER_ORDER LEFT_RIGHT/TOP_BOTTOM video display order*
BAND_ORGANIZATION "SINGLE FILE" single file or BSQ, or BIL or BIP*
BAND_CONTENT BLACK&WHITE black&white or red green blue*
BITS_PER_PIXEL 8 radiometric resolution*
SAMPLES_AND_LINES 6241 7602 number of columns and rows*
HORIZONTAL_DATUM NAD83 primary horizontal datum*
HORIZONTAL_COORDINATE_SYSTEM UTM *
COORDINATE_ZONE 10 coordinate system zone number*
HORIZONTAL_UNITS METERS coordinate system units*
HORIZONTAL_RESOLUTION 1.00 pixel horiz. ground sample distance*
SECONDARY_HORIZONTAL_DATUM NAD27 secondary horizontal datum*
XY_ORIGIN 576231.000 4227335.000 coord. of upper left pixel pri. datum*
SECONDARY_XY_ORIGIN 576327.310 4227139.051 coord upper left pixel sec datum*
NATION US nation code*
STATE CA state fip code*
NW_QUAD_CORNER_XY 576627.361 4226980.621 XY coords. of pri. NW quad corner*
NE_QUAD_CORNER_XY 582100.856 4227034.149 XY coords. of pri. NE quad corner*
SE_QUAD_CORNER_XY 582170.967 4220099.237 XY coords. of pri. SE quad corner*
SW_QUAD_CORNER_XY 576692.796 4220045.738 XY coords. of pri. SW quad corner*
SECONDARY_NW_QUAD_XY 576629.285 4226774.509 XY coords. - sec. NW quad cor.*
SECONDARY_NE_QUAD_XY 582102.918 4226828.038 XY coords. - sec. NE quad cor.*
SECONDARY_SE_QUAD_XY 582173.027 4219893.274 XY coords. - sec. SE quad cor.*
SECONDARY_SW_QUAD_XY 576694.719 4219839.773 XY coords. - sec. SW quad cor.*
RMSE_XY 1.20 doq horiz. accuracy*
IMAGE_SOURCE "BLACK AND WHITE FILM" b&w, cir, natural color, other*
SOURCE_IMAGE_ID "NAPP 6358 114" source image id*
SOURCE_IMAGE_DATE 1993 06 16 source image date as yyyy mm dd*
SOURCE_DEM_DATE 1948 00 00 source dem date yyyy mm dd*
AGENCY "WESTERN MAPPING CENTER (WMC)" oversight agency*
PRODUCER "SCIENCE APPLICATIONS INTERNATIONAL" producer/contractor*
PRODUCTION_SYSTEM "GIS/MAGIC" production system*
STANDARD_VERSION 1996 12 version of DOQ standard*
METADATA_DATE 1998 08 21 date created or changed, yyyy mm dd*
DATA_FILE_SIZE 47450323 data set size in bytes*
BYTE_COUNT 6241 header byte count* * * * * * * * * * * * * * * * * * * * * * * * * * * * * * * * * * *
END_USGS_HEADER *
