1.0000000000
0.0000000000
0.0000000000
-1.0000000000
570697.5000000000
4234215.5000000000
